BEGIN:VCALENDAR
VERSION:2.0
PRODID:-//Corvette Club of Western PA (CCWP) - ECPv6.15.20//NONSGML v1.0//EN
CALSCALE:GREGORIAN
METHOD:PUBLISH
X-WR-CALNAME:Corvette Club of Western PA (CCWP)
X-ORIGINAL-URL:https://ccwp.org
X-WR-CALDESC:Events for Corvette Club of Western PA (CCWP)
REFRESH-INTERVAL;VALUE=DURATION:PT1H
X-Robots-Tag:noindex
X-PUBLISHED-TTL:PT1H
BEGIN:VTIMEZONE
TZID:America/New_York
BEGIN:DAYLIGHT
TZOFFSETFROM:-0500
TZOFFSETTO:-0400
TZNAME:EDT
DTSTART:20230312T070000
END:DAYLIGHT
BEGIN:STANDARD
TZOFFSETFROM:-0400
TZOFFSETTO:-0500
TZNAME:EST
DTSTART:20231105T060000
END:STANDARD
BEGIN:DAYLIGHT
TZOFFSETFROM:-0500
TZOFFSETTO:-0400
TZNAME:EDT
DTSTART:20240310T070000
END:DAYLIGHT
BEGIN:STANDARD
TZOFFSETFROM:-0400
TZOFFSETTO:-0500
TZNAME:EST
DTSTART:20241103T060000
END:STANDARD
BEGIN:DAYLIGHT
TZOFFSETFROM:-0500
TZOFFSETTO:-0400
TZNAME:EDT
DTSTART:20250309T070000
END:DAYLIGHT
BEGIN:STANDARD
TZOFFSETFROM:-0400
TZOFFSETTO:-0500
TZNAME:EST
DTSTART:20251102T060000
END:STANDARD
END:VTIMEZONE
BEGIN:VEVENT
DTSTART;TZID=America/New_York:20240915T080000
DTEND;TZID=America/New_York:20240915T150000
DTSTAMP:20260421T045555
CREATED:20240805T164512Z
LAST-MODIFIED:20240805T164512Z
UID:17978-1726387200-1726412400@ccwp.org
SUMMARY:CCWP Fall Corvette Show @ Jim Shorkey Chevrolet Murrysville
DESCRIPTION: 
URL:https://ccwp.org/event/ccwp-fall-corvette-show-jim-shorkey-chevrolet-murrysville/
LOCATION:Jim Shorkey Chevrolet Murrysville\, 6370 William Penn Hwy\, Murrysville\, PA\, 15668\, United States
CATEGORIES:CCWP Sponsored Event
END:VEVENT
END:VCALENDAR