BEGIN:VCALENDAR
VERSION:2.0
PRODID:-//Corvette Club of Western PA (CCWP) - ECPv6.15.20//NONSGML v1.0//EN
CALSCALE:GREGORIAN
METHOD:PUBLISH
X-WR-CALNAME:Corvette Club of Western PA (CCWP)
X-ORIGINAL-URL:https://ccwp.org
X-WR-CALDESC:Events for Corvette Club of Western PA (CCWP)
REFRESH-INTERVAL;VALUE=DURATION:PT1H
X-Robots-Tag:noindex
X-PUBLISHED-TTL:PT1H
BEGIN:VTIMEZONE
TZID:America/New_York
BEGIN:DAYLIGHT
TZOFFSETFROM:-0500
TZOFFSETTO:-0400
TZNAME:EDT
DTSTART:20250309T070000
END:DAYLIGHT
BEGIN:STANDARD
TZOFFSETFROM:-0400
TZOFFSETTO:-0500
TZNAME:EST
DTSTART:20251102T060000
END:STANDARD
BEGIN:DAYLIGHT
TZOFFSETFROM:-0500
TZOFFSETTO:-0400
TZNAME:EDT
DTSTART:20260308T070000
END:DAYLIGHT
BEGIN:STANDARD
TZOFFSETFROM:-0400
TZOFFSETTO:-0500
TZNAME:EST
DTSTART:20261101T060000
END:STANDARD
BEGIN:DAYLIGHT
TZOFFSETFROM:-0500
TZOFFSETTO:-0400
TZNAME:EDT
DTSTART:20270314T070000
END:DAYLIGHT
BEGIN:STANDARD
TZOFFSETFROM:-0400
TZOFFSETTO:-0500
TZNAME:EST
DTSTART:20271107T060000
END:STANDARD
END:VTIMEZONE
BEGIN:VEVENT
DTSTART;TZID=America/New_York:20260511T190000
DTEND;TZID=America/New_York:20260511T200000
DTSTAMP:20260421T073058
CREATED:20260211T235101Z
LAST-MODIFIED:20260211T235101Z
UID:18186-1778526000-1778529600@ccwp.org
SUMMARY:CCWP May Membership Meeting
DESCRIPTION:More details to be provided
URL:https://ccwp.org/event/ccwp-may-membership-meeting-3/
LOCATION:Veronica’s on Cavitt\, 427 Cavitt Ave\, Trafford\, PA\, 15085\, United States
CATEGORIES:CCWP Sponsored Event
END:VEVENT
END:VCALENDAR