BEGIN:VCALENDAR
VERSION:2.0
PRODID:-//Corvette Club of Western PA (CCWP) - ECPv6.15.20//NONSGML v1.0//EN
CALSCALE:GREGORIAN
METHOD:PUBLISH
X-ORIGINAL-URL:https://ccwp.org
X-WR-CALDESC:Events for Corvette Club of Western PA (CCWP)
REFRESH-INTERVAL;VALUE=DURATION:PT1H
X-Robots-Tag:noindex
X-PUBLISHED-TTL:PT1H
BEGIN:VTIMEZONE
TZID:America/New_York
BEGIN:DAYLIGHT
TZOFFSETFROM:-0500
TZOFFSETTO:-0400
TZNAME:EDT
DTSTART:20230312T070000
END:DAYLIGHT
BEGIN:STANDARD
TZOFFSETFROM:-0400
TZOFFSETTO:-0500
TZNAME:EST
DTSTART:20231105T060000
END:STANDARD
BEGIN:DAYLIGHT
TZOFFSETFROM:-0500
TZOFFSETTO:-0400
TZNAME:EDT
DTSTART:20240310T070000
END:DAYLIGHT
BEGIN:STANDARD
TZOFFSETFROM:-0400
TZOFFSETTO:-0500
TZNAME:EST
DTSTART:20241103T060000
END:STANDARD
BEGIN:DAYLIGHT
TZOFFSETFROM:-0500
TZOFFSETTO:-0400
TZNAME:EDT
DTSTART:20250309T070000
END:DAYLIGHT
BEGIN:STANDARD
TZOFFSETFROM:-0400
TZOFFSETTO:-0500
TZNAME:EST
DTSTART:20251102T060000
END:STANDARD
END:VTIMEZONE
BEGIN:VEVENT
DTSTART;TZID=America/New_York:20240408T190000
DTEND;TZID=America/New_York:20240408T200000
DTSTAMP:20260421T081932
CREATED:20240404T215851Z
LAST-MODIFIED:20240404T215851Z
UID:17930-1712602800-1712606400@ccwp.org
SUMMARY:April Membership Meeting
DESCRIPTION:The April Membership Meeting will be held on Monday\, April 8th\, at Papa Rocks in Haymaker Plaza on Route 130 in Monroeville. \nThe meeting starts at 7:00 pm but you can come early and join your fellow members for dinner. The setup for dinner will be the same as it was in the fall: pizza and grilled chicken salad buffet with a drink\, tax and tip for $15.00. \nPapa Rocks has asked us to give them an estimate of how many people will be attending the meeting so if you even think you will attend\, please let Allen Young know by Monday\, April 1st. \nAllen’s contact information: ayoung1210@msn.com 412-372-7802
URL:https://ccwp.org/event/april-membership-meeting/
LOCATION:Papa Rock’s Pizza\, 4512 Broadway Blvd\, Monroeville\, PA\, 15146\, United States
CATEGORIES:CCWP Sponsored Event
END:VEVENT
END:VCALENDAR